BEGIN:VCALENDAR
VERSION:2.0
PRODID:-//Health &amp; Welfare Council of Long Island  (HWCLI) - ECPv4.6.20.1//NONSGML v1.0//EN
CALSCALE:GREGORIAN
METHOD:PUBLISH
X-ORIGINAL-URL:https://hwcli.com
X-WR-CALDESC:Events for Health &amp; Welfare Council of Long Island  (HWCLI)
BEGIN:VEVENT
DTSTART;TZID=UTC+0:20201119T190000
DTEND;TZID=UTC+0:20201119T200000
DTSTAMP:20260422T203953
CREATED:20201008T225330Z
LAST-MODIFIED:20201008T225330Z
UID:5037-1605812400-1605816000@hwcli.com
SUMMARY:HWCLI's Virtual Thanksgiving Dinner 2020
DESCRIPTION:YOU’RE INVITED: HWCLI’S VIRTUAL THANKSGIVING DINNER\nA VIRTUAL GRATITUDE GATHERING WITH HWCLI! \nThe Health & Welfare Council of Long Island invites you to join us at our Virtual Thanksgiving Dinner on November 19\, as we take a moment to reflect on all that Long Island has to be grateful for\, and continues to persevere through together. \nThough a challenging year\, the health and human services sector has demonstrated our collective strength and tireless dedication to serving our neighbors in need. In recognition of this\, we invite you to Long Island’s virtual Thanksgiving table to show our gratitude and honor members of our community for their lifetime dedication to service. Please join us for this unique event to celebrate the resolve of our region as we care for each other. \nIndividual tickets are $100\, and sponsorships are available at a wide variety of levels.\nPurchase your sponsorships and tickets for the Virtual Thanksgiving Dinner here. \nJoin us in honoring three pillars in the Long Island community: \n\nJan Barbieri\, Child Care Council of Nassau\nLance Elder\, EAC Network\nMichael Stoltz\, Association for Mental Health and Wellness\n\nNew York State Attorney General Letitia “Tish” James\, with the first annual Ruth Bader Ginsburg Social Justice Award. \nWe look forward to hosting you on November 19! \nPlease contact fallcelebration@hwcli.com with any questions or comments. \n\nThank you to our generous sponsors!\nDiamond Sponsors: \n\n  \n  \n  \n \n  \n  \n  \n  \n  \n  \nGold Sponsors: \n \n \n  \n  \n  \nSilver Sponsors: \n \n \n  \n  \n  \n \n  \n  \n  \n \n  \n  \n  \n  \n  \n  \n  \n  \nBronze Sponsors: \n \n  \n  \n  \n \n  \n  \n \n \n  \n  \n  \n  \n \n  \n  \n  \n \n  \n  \n  \n  \n \n  \n  \n  \n  \n \n  \n  \n  \n  \n  \n \n  \n  \n \n  \n  \n
URL:https://hwcli.com/event/thanksgiving-dinner-2020/
CATEGORIES:Fundraiser
ATTACH;FMTTYPE=application/pdf:https://hwcli.com/wp-content/uploads/sites/2/2020/10/EMAIL-INVITE-Thanksgiving-Dinner-1.pdf
END:VEVENT
END:VCALENDAR